BEGIN:VCALENDAR
VERSION:2.0
PRODID:Mountain View, CA Calendar Creator
METHOD:PUBLISH
BEGIN:VEVENT
DTSTAMP:20260403T125849
DTSTART:20260414T180000
DTEND:20260414T191500
SUMMARY:BMR Rental Program Informational Call
DESCRIPTION:<p align="center">As part of the Housing team's regular outreach, an informational call on the City's Below-Market Rate (BMR) Rental Program will be held on</p><p align="center">Tuesday, April 14 , 2026 at 6:00 PM.</p><p align="left">The following topics will be covered:</p><ul>    <li>    <p align="left">Rental opportunities available under the BMR rental program.</p>    </li>    <li>    <p align="left">How to apply for BMR rental units.</p>    </li>    <li>    <p align="left">How to navigate the online portals.</p>    </li>    <li>    <p align="left">The overall process from application to lease up.</p>    </li></ul><p align="left"><a href="https://mountainview.zoom.us/webinar/register/WN_WOO-owFzSJmzhw97DRC2hg#/registration" target="_blank" rel="noopener">Reserve your spot for the BMR Informational Call.</a></p><p align="left">Interpretation in Spanish and Mandarin is available upon request</p>
X-ALT-DESC;FMTTYPE=text/html:<p align="center">As part of the Housing team's regular outreach, an informational call on the City's Below-Market Rate (BMR) Rental Program will be held on</p><p align="center">Tuesday, April 14 , 2026 at 6:00 PM.</p><p align="left">The following topics will be covered:</p><ul>    <li>    <p align="left">Rental opportunities available under the BMR rental program.</p>    </li>    <li>    <p align="left">How to apply for BMR rental units.</p>    </li>    <li>    <p align="left">How to navigate the online portals.</p>    </li>    <li>    <p align="left">The overall process from application to lease up.</p>    </li></ul><p align="left"><a href="https://mountainview.zoom.us/webinar/register/WN_WOO-owFzSJmzhw97DRC2hg#/registration" target="_blank" rel="noopener">Reserve your spot for the BMR Informational Call.</a></p><p align="left">Interpretation in Spanish and Mandarin is available upon request</p>
LOCATION:
CLASS:PUBLIC
END:VEVENT
END:VCALENDAR
